BEGIN:VCALENDAR
PRODID:Nexudus
VERSION:2.0
BEGIN:VTIMEZONE
TZID:America/Los_Angeles
X-LIC-LOCATION:America/Los_Angeles
BEGIN:STANDARD
DTSTART:20241103T020000
RRULE:FREQ=YEARLY;BYDAY=1SU;BYMONTH=11
TZNAME:PST
TZOFFSETFROM:-0700
TZOFFSETTO:-0800
END:STANDARD
BEGIN:DAYLIGHT
DTSTART:20250309T020000
RRULE:FREQ=YEARLY;BYDAY=2SU;BYMONTH=3
TZNAME:PDT
TZOFFSETFROM:-0800
TZOFFSETTO:-0700
END:DAYLIGHT
END:VTIMEZONE
BEGIN:VEVENT
DESCRIPTION:Join Nicole Baumann for an at-home yoga practice every Thursday
  from noon-1pm. The live stream Zoom link will be shared in the weekly ema
 iled updates.\nEvent link: https://embark.spaces.nexudus.com/en/events/vie
 w/1385939568/lunchtime-live-stream-yoga-for-embark-members\n
DTEND;TZID=America/Los_Angeles:20201112T130000
DTSTAMP:20260422T195721Z
DTSTART;TZID=America/Los_Angeles:20201112T120000
LOCATION:Embark Coworking Community
SEQUENCE:0
SUMMARY:Lunchtime Live Stream Yoga for Embark Members
UID:d83175de-7034-4ba1-a34c-6d75dfa4e053
END:VEVENT
END:VCALENDAR
